BEGIN:VCALENDAR
VERSION:2.0
PRODID:-// - ECPv6.15.20//NONSGML v1.0//EN
CALSCALE:GREGORIAN
METHOD:PUBLISH
X-ORIGINAL-URL:https://amazinggracelutheran.com
X-WR-CALDESC:Events for 
REFRESH-INTERVAL;VALUE=DURATION:PT1H
X-Robots-Tag:noindex
X-PUBLISHED-TTL:PT1H
BEGIN:VTIMEZONE
TZID:America/New_York
BEGIN:DAYLIGHT
TZOFFSETFROM:-0500
TZOFFSETTO:-0400
TZNAME:EDT
DTSTART:20270314T070000
END:DAYLIGHT
BEGIN:STANDARD
TZOFFSETFROM:-0400
TZOFFSETTO:-0500
TZNAME:EST
DTSTART:20271107T060000
END:STANDARD
BEGIN:DAYLIGHT
TZOFFSETFROM:-0500
TZOFFSETTO:-0400
TZNAME:EDT
DTSTART:20280312T070000
END:DAYLIGHT
BEGIN:STANDARD
TZOFFSETFROM:-0400
TZOFFSETTO:-0500
TZNAME:EST
DTSTART:20281105T060000
END:STANDARD
BEGIN:DAYLIGHT
TZOFFSETFROM:-0500
TZOFFSETTO:-0400
TZNAME:EDT
DTSTART:20290311T070000
END:DAYLIGHT
BEGIN:STANDARD
TZOFFSETFROM:-0400
TZOFFSETTO:-0500
TZNAME:EST
DTSTART:20291104T060000
END:STANDARD
END:VTIMEZONE
BEGIN:VEVENT
DTSTART;TZID=America/New_York:20280227T091500
DTEND;TZID=America/New_York:20280227T101500
DTSTAMP:20260423T044249
CREATED:20240229T185809Z
LAST-MODIFIED:20240229T185809Z
UID:10002968-1835255700-1835259300@amazinggracelutheran.com
SUMMARY:Bible Class & Kids GROW
DESCRIPTION:
URL:https://amazinggracelutheran.com/event/bible-class-kids-grow-2-2-2/2028-02-27/
LOCATION:Amazing Grace Lutheran Church\, 2240 Carolina Forest Blvd\,\, Myrtle Beach\, SC\, 29579\, United States
CATEGORIES:Weekly
END:VEVENT
BEGIN:VEVENT
DTSTART;TZID=America/New_York:20280227T103000
DTEND;TZID=America/New_York:20280227T113000
DTSTAMP:20260423T044249
CREATED:20240229T185917Z
LAST-MODIFIED:20240229T185918Z
UID:10003245-1835260200-1835263800@amazinggracelutheran.com
SUMMARY:Worship
DESCRIPTION:
URL:https://amazinggracelutheran.com/event/worship-3-2/2028-02-27/
LOCATION:Amazing Grace Lutheran Church\, 2240 Carolina Forest Blvd\,\, Myrtle Beach\, SC\, 29579\, United States
CATEGORIES:Weekly
END:VEVENT
BEGIN:VEVENT
DTSTART;TZID=America/New_York:20280305T091500
DTEND;TZID=America/New_York:20280305T101500
DTSTAMP:20260423T044249
CREATED:20240229T185809Z
LAST-MODIFIED:20240229T185809Z
UID:10002969-1835860500-1835864100@amazinggracelutheran.com
SUMMARY:Bible Class & Kids GROW
DESCRIPTION:
URL:https://amazinggracelutheran.com/event/bible-class-kids-grow-2-2-2/2028-03-05/
LOCATION:Amazing Grace Lutheran Church\, 2240 Carolina Forest Blvd\,\, Myrtle Beach\, SC\, 29579\, United States
CATEGORIES:Weekly
END:VEVENT
BEGIN:VEVENT
DTSTART;TZID=America/New_York:20280305T103000
DTEND;TZID=America/New_York:20280305T113000
DTSTAMP:20260423T044249
CREATED:20240229T185917Z
LAST-MODIFIED:20240229T185918Z
UID:10003246-1835865000-1835868600@amazinggracelutheran.com
SUMMARY:Worship
DESCRIPTION:
URL:https://amazinggracelutheran.com/event/worship-3-2/2028-03-05/
LOCATION:Amazing Grace Lutheran Church\, 2240 Carolina Forest Blvd\,\, Myrtle Beach\, SC\, 29579\, United States
CATEGORIES:Weekly
END:VEVENT
BEGIN:VEVENT
DTSTART;TZID=America/New_York:20280312T091500
DTEND;TZID=America/New_York:20280312T101500
DTSTAMP:20260423T044249
CREATED:20240229T185809Z
LAST-MODIFIED:20240229T185809Z
UID:10002970-1836465300-1836468900@amazinggracelutheran.com
SUMMARY:Bible Class & Kids GROW
DESCRIPTION:
URL:https://amazinggracelutheran.com/event/bible-class-kids-grow-2-2-2/2028-03-12/
LOCATION:Amazing Grace Lutheran Church\, 2240 Carolina Forest Blvd\,\, Myrtle Beach\, SC\, 29579\, United States
CATEGORIES:Weekly
END:VEVENT
BEGIN:VEVENT
DTSTART;TZID=America/New_York:20280312T103000
DTEND;TZID=America/New_York:20280312T113000
DTSTAMP:20260423T044249
CREATED:20240229T185917Z
LAST-MODIFIED:20240229T185918Z
UID:10003247-1836469800-1836473400@amazinggracelutheran.com
SUMMARY:Worship
DESCRIPTION:
URL:https://amazinggracelutheran.com/event/worship-3-2/2028-03-12/
LOCATION:Amazing Grace Lutheran Church\, 2240 Carolina Forest Blvd\,\, Myrtle Beach\, SC\, 29579\, United States
CATEGORIES:Weekly
END:VEVENT
BEGIN:VEVENT
DTSTART;TZID=America/New_York:20280319T091500
DTEND;TZID=America/New_York:20280319T101500
DTSTAMP:20260423T044249
CREATED:20240229T185809Z
LAST-MODIFIED:20240229T185809Z
UID:10002971-1837070100-1837073700@amazinggracelutheran.com
SUMMARY:Bible Class & Kids GROW
DESCRIPTION:
URL:https://amazinggracelutheran.com/event/bible-class-kids-grow-2-2-2/2028-03-19/
LOCATION:Amazing Grace Lutheran Church\, 2240 Carolina Forest Blvd\,\, Myrtle Beach\, SC\, 29579\, United States
CATEGORIES:Weekly
END:VEVENT
BEGIN:VEVENT
DTSTART;TZID=America/New_York:20280319T103000
DTEND;TZID=America/New_York:20280319T113000
DTSTAMP:20260423T044249
CREATED:20240229T185917Z
LAST-MODIFIED:20240229T185918Z
UID:10003248-1837074600-1837078200@amazinggracelutheran.com
SUMMARY:Worship
DESCRIPTION:
URL:https://amazinggracelutheran.com/event/worship-3-2/2028-03-19/
LOCATION:Amazing Grace Lutheran Church\, 2240 Carolina Forest Blvd\,\, Myrtle Beach\, SC\, 29579\, United States
CATEGORIES:Weekly
END:VEVENT
BEGIN:VEVENT
DTSTART;TZID=America/New_York:20280326T091500
DTEND;TZID=America/New_York:20280326T101500
DTSTAMP:20260423T044249
CREATED:20240229T185809Z
LAST-MODIFIED:20240229T185809Z
UID:10002972-1837674900-1837678500@amazinggracelutheran.com
SUMMARY:Bible Class & Kids GROW
DESCRIPTION:
URL:https://amazinggracelutheran.com/event/bible-class-kids-grow-2-2-2/2028-03-26/
LOCATION:Amazing Grace Lutheran Church\, 2240 Carolina Forest Blvd\,\, Myrtle Beach\, SC\, 29579\, United States
CATEGORIES:Weekly
END:VEVENT
BEGIN:VEVENT
DTSTART;TZID=America/New_York:20280326T103000
DTEND;TZID=America/New_York:20280326T113000
DTSTAMP:20260423T044249
CREATED:20240229T185917Z
LAST-MODIFIED:20240229T185918Z
UID:10003249-1837679400-1837683000@amazinggracelutheran.com
SUMMARY:Worship
DESCRIPTION:
URL:https://amazinggracelutheran.com/event/worship-3-2/2028-03-26/
LOCATION:Amazing Grace Lutheran Church\, 2240 Carolina Forest Blvd\,\, Myrtle Beach\, SC\, 29579\, United States
CATEGORIES:Weekly
END:VEVENT
BEGIN:VEVENT
DTSTART;TZID=America/New_York:20280402T091500
DTEND;TZID=America/New_York:20280402T101500
DTSTAMP:20260423T044249
CREATED:20240229T185809Z
LAST-MODIFIED:20240229T185809Z
UID:10002973-1838279700-1838283300@amazinggracelutheran.com
SUMMARY:Bible Class & Kids GROW
DESCRIPTION:
URL:https://amazinggracelutheran.com/event/bible-class-kids-grow-2-2-2/2028-04-02/
LOCATION:Amazing Grace Lutheran Church\, 2240 Carolina Forest Blvd\,\, Myrtle Beach\, SC\, 29579\, United States
CATEGORIES:Weekly
END:VEVENT
BEGIN:VEVENT
DTSTART;TZID=America/New_York:20280402T103000
DTEND;TZID=America/New_York:20280402T113000
DTSTAMP:20260423T044249
CREATED:20240229T185917Z
LAST-MODIFIED:20240229T185918Z
UID:10003250-1838284200-1838287800@amazinggracelutheran.com
SUMMARY:Worship
DESCRIPTION:
URL:https://amazinggracelutheran.com/event/worship-3-2/2028-04-02/
LOCATION:Amazing Grace Lutheran Church\, 2240 Carolina Forest Blvd\,\, Myrtle Beach\, SC\, 29579\, United States
CATEGORIES:Weekly
END:VEVENT
BEGIN:VEVENT
DTSTART;TZID=America/New_York:20280409T091500
DTEND;TZID=America/New_York:20280409T101500
DTSTAMP:20260423T044249
CREATED:20240229T185809Z
LAST-MODIFIED:20240229T185809Z
UID:10002974-1838884500-1838888100@amazinggracelutheran.com
SUMMARY:Bible Class & Kids GROW
DESCRIPTION:
URL:https://amazinggracelutheran.com/event/bible-class-kids-grow-2-2-2/2028-04-09/
LOCATION:Amazing Grace Lutheran Church\, 2240 Carolina Forest Blvd\,\, Myrtle Beach\, SC\, 29579\, United States
CATEGORIES:Weekly
END:VEVENT
BEGIN:VEVENT
DTSTART;TZID=America/New_York:20280409T103000
DTEND;TZID=America/New_York:20280409T113000
DTSTAMP:20260423T044249
CREATED:20240229T185917Z
LAST-MODIFIED:20240229T185918Z
UID:10003251-1838889000-1838892600@amazinggracelutheran.com
SUMMARY:Worship
DESCRIPTION:
URL:https://amazinggracelutheran.com/event/worship-3-2/2028-04-09/
LOCATION:Amazing Grace Lutheran Church\, 2240 Carolina Forest Blvd\,\, Myrtle Beach\, SC\, 29579\, United States
CATEGORIES:Weekly
END:VEVENT
BEGIN:VEVENT
DTSTART;TZID=America/New_York:20280416T091500
DTEND;TZID=America/New_York:20280416T101500
DTSTAMP:20260423T044249
CREATED:20240229T185809Z
LAST-MODIFIED:20240229T185809Z
UID:10002975-1839489300-1839492900@amazinggracelutheran.com
SUMMARY:Bible Class & Kids GROW
DESCRIPTION:
URL:https://amazinggracelutheran.com/event/bible-class-kids-grow-2-2-2/2028-04-16/
LOCATION:Amazing Grace Lutheran Church\, 2240 Carolina Forest Blvd\,\, Myrtle Beach\, SC\, 29579\, United States
CATEGORIES:Weekly
END:VEVENT
BEGIN:VEVENT
DTSTART;TZID=America/New_York:20280416T103000
DTEND;TZID=America/New_York:20280416T113000
DTSTAMP:20260423T044249
CREATED:20240229T185917Z
LAST-MODIFIED:20240229T185918Z
UID:10003252-1839493800-1839497400@amazinggracelutheran.com
SUMMARY:Worship
DESCRIPTION:
URL:https://amazinggracelutheran.com/event/worship-3-2/2028-04-16/
LOCATION:Amazing Grace Lutheran Church\, 2240 Carolina Forest Blvd\,\, Myrtle Beach\, SC\, 29579\, United States
CATEGORIES:Weekly
END:VEVENT
BEGIN:VEVENT
DTSTART;TZID=America/New_York:20280423T091500
DTEND;TZID=America/New_York:20280423T101500
DTSTAMP:20260423T044249
CREATED:20240229T185809Z
LAST-MODIFIED:20240229T185809Z
UID:10002976-1840094100-1840097700@amazinggracelutheran.com
SUMMARY:Bible Class & Kids GROW
DESCRIPTION:
URL:https://amazinggracelutheran.com/event/bible-class-kids-grow-2-2-2/2028-04-23/
LOCATION:Amazing Grace Lutheran Church\, 2240 Carolina Forest Blvd\,\, Myrtle Beach\, SC\, 29579\, United States
CATEGORIES:Weekly
END:VEVENT
BEGIN:VEVENT
DTSTART;TZID=America/New_York:20280423T103000
DTEND;TZID=America/New_York:20280423T113000
DTSTAMP:20260423T044249
CREATED:20240229T185917Z
LAST-MODIFIED:20240229T185918Z
UID:10003253-1840098600-1840102200@amazinggracelutheran.com
SUMMARY:Worship
DESCRIPTION:
URL:https://amazinggracelutheran.com/event/worship-3-2/2028-04-23/
LOCATION:Amazing Grace Lutheran Church\, 2240 Carolina Forest Blvd\,\, Myrtle Beach\, SC\, 29579\, United States
CATEGORIES:Weekly
END:VEVENT
BEGIN:VEVENT
DTSTART;TZID=America/New_York:20280430T091500
DTEND;TZID=America/New_York:20280430T101500
DTSTAMP:20260423T044249
CREATED:20240229T185809Z
LAST-MODIFIED:20240229T185809Z
UID:10002977-1840698900-1840702500@amazinggracelutheran.com
SUMMARY:Bible Class & Kids GROW
DESCRIPTION:
URL:https://amazinggracelutheran.com/event/bible-class-kids-grow-2-2-2/2028-04-30/
LOCATION:Amazing Grace Lutheran Church\, 2240 Carolina Forest Blvd\,\, Myrtle Beach\, SC\, 29579\, United States
CATEGORIES:Weekly
END:VEVENT
BEGIN:VEVENT
DTSTART;TZID=America/New_York:20280430T103000
DTEND;TZID=America/New_York:20280430T113000
DTSTAMP:20260423T044249
CREATED:20240229T185917Z
LAST-MODIFIED:20240229T185918Z
UID:10003254-1840703400-1840707000@amazinggracelutheran.com
SUMMARY:Worship
DESCRIPTION:
URL:https://amazinggracelutheran.com/event/worship-3-2/2028-04-30/
LOCATION:Amazing Grace Lutheran Church\, 2240 Carolina Forest Blvd\,\, Myrtle Beach\, SC\, 29579\, United States
CATEGORIES:Weekly
END:VEVENT
BEGIN:VEVENT
DTSTART;TZID=America/New_York:20280507T091500
DTEND;TZID=America/New_York:20280507T101500
DTSTAMP:20260423T044249
CREATED:20240229T185809Z
LAST-MODIFIED:20240229T185809Z
UID:10002978-1841303700-1841307300@amazinggracelutheran.com
SUMMARY:Bible Class & Kids GROW
DESCRIPTION:
URL:https://amazinggracelutheran.com/event/bible-class-kids-grow-2-2-2/2028-05-07/
LOCATION:Amazing Grace Lutheran Church\, 2240 Carolina Forest Blvd\,\, Myrtle Beach\, SC\, 29579\, United States
CATEGORIES:Weekly
END:VEVENT
BEGIN:VEVENT
DTSTART;TZID=America/New_York:20280507T103000
DTEND;TZID=America/New_York:20280507T113000
DTSTAMP:20260423T044249
CREATED:20240229T185917Z
LAST-MODIFIED:20240229T185918Z
UID:10003255-1841308200-1841311800@amazinggracelutheran.com
SUMMARY:Worship
DESCRIPTION:
URL:https://amazinggracelutheran.com/event/worship-3-2/2028-05-07/
LOCATION:Amazing Grace Lutheran Church\, 2240 Carolina Forest Blvd\,\, Myrtle Beach\, SC\, 29579\, United States
CATEGORIES:Weekly
END:VEVENT
BEGIN:VEVENT
DTSTART;TZID=America/New_York:20280514T091500
DTEND;TZID=America/New_York:20280514T101500
DTSTAMP:20260423T044249
CREATED:20240229T185809Z
LAST-MODIFIED:20240229T185809Z
UID:10002979-1841908500-1841912100@amazinggracelutheran.com
SUMMARY:Bible Class & Kids GROW
DESCRIPTION:
URL:https://amazinggracelutheran.com/event/bible-class-kids-grow-2-2-2/2028-05-14/
LOCATION:Amazing Grace Lutheran Church\, 2240 Carolina Forest Blvd\,\, Myrtle Beach\, SC\, 29579\, United States
CATEGORIES:Weekly
END:VEVENT
BEGIN:VEVENT
DTSTART;TZID=America/New_York:20280514T103000
DTEND;TZID=America/New_York:20280514T113000
DTSTAMP:20260423T044249
CREATED:20240229T185917Z
LAST-MODIFIED:20240229T185918Z
UID:10003256-1841913000-1841916600@amazinggracelutheran.com
SUMMARY:Worship
DESCRIPTION:
URL:https://amazinggracelutheran.com/event/worship-3-2/2028-05-14/
LOCATION:Amazing Grace Lutheran Church\, 2240 Carolina Forest Blvd\,\, Myrtle Beach\, SC\, 29579\, United States
CATEGORIES:Weekly
END:VEVENT
BEGIN:VEVENT
DTSTART;TZID=America/New_York:20280521T091500
DTEND;TZID=America/New_York:20280521T101500
DTSTAMP:20260423T044249
CREATED:20240229T185809Z
LAST-MODIFIED:20240229T185809Z
UID:10002980-1842513300-1842516900@amazinggracelutheran.com
SUMMARY:Bible Class & Kids GROW
DESCRIPTION:
URL:https://amazinggracelutheran.com/event/bible-class-kids-grow-2-2-2/2028-05-21/
LOCATION:Amazing Grace Lutheran Church\, 2240 Carolina Forest Blvd\,\, Myrtle Beach\, SC\, 29579\, United States
CATEGORIES:Weekly
END:VEVENT
BEGIN:VEVENT
DTSTART;TZID=America/New_York:20280521T103000
DTEND;TZID=America/New_York:20280521T113000
DTSTAMP:20260423T044249
CREATED:20240229T185917Z
LAST-MODIFIED:20240229T185918Z
UID:10003257-1842517800-1842521400@amazinggracelutheran.com
SUMMARY:Worship
DESCRIPTION:
URL:https://amazinggracelutheran.com/event/worship-3-2/2028-05-21/
LOCATION:Amazing Grace Lutheran Church\, 2240 Carolina Forest Blvd\,\, Myrtle Beach\, SC\, 29579\, United States
CATEGORIES:Weekly
END:VEVENT
BEGIN:VEVENT
DTSTART;TZID=America/New_York:20280528T091500
DTEND;TZID=America/New_York:20280528T101500
DTSTAMP:20260423T044249
CREATED:20240229T185809Z
LAST-MODIFIED:20240229T185809Z
UID:10002981-1843118100-1843121700@amazinggracelutheran.com
SUMMARY:Bible Class & Kids GROW
DESCRIPTION:
URL:https://amazinggracelutheran.com/event/bible-class-kids-grow-2-2-2/2028-05-28/
LOCATION:Amazing Grace Lutheran Church\, 2240 Carolina Forest Blvd\,\, Myrtle Beach\, SC\, 29579\, United States
CATEGORIES:Weekly
END:VEVENT
BEGIN:VEVENT
DTSTART;TZID=America/New_York:20280528T103000
DTEND;TZID=America/New_York:20280528T113000
DTSTAMP:20260423T044249
CREATED:20240229T185917Z
LAST-MODIFIED:20240229T185918Z
UID:10003258-1843122600-1843126200@amazinggracelutheran.com
SUMMARY:Worship
DESCRIPTION:
URL:https://amazinggracelutheran.com/event/worship-3-2/2028-05-28/
LOCATION:Amazing Grace Lutheran Church\, 2240 Carolina Forest Blvd\,\, Myrtle Beach\, SC\, 29579\, United States
CATEGORIES:Weekly
END:VEVENT
BEGIN:VEVENT
DTSTART;TZID=America/New_York:20280604T091500
DTEND;TZID=America/New_York:20280604T101500
DTSTAMP:20260423T044249
CREATED:20240229T185809Z
LAST-MODIFIED:20240229T185809Z
UID:10002982-1843722900-1843726500@amazinggracelutheran.com
SUMMARY:Bible Class & Kids GROW
DESCRIPTION:
URL:https://amazinggracelutheran.com/event/bible-class-kids-grow-2-2-2/2028-06-04/
LOCATION:Amazing Grace Lutheran Church\, 2240 Carolina Forest Blvd\,\, Myrtle Beach\, SC\, 29579\, United States
CATEGORIES:Weekly
END:VEVENT
BEGIN:VEVENT
DTSTART;TZID=America/New_York:20280604T103000
DTEND;TZID=America/New_York:20280604T113000
DTSTAMP:20260423T044249
CREATED:20240229T185917Z
LAST-MODIFIED:20240229T185918Z
UID:10003259-1843727400-1843731000@amazinggracelutheran.com
SUMMARY:Worship
DESCRIPTION:
URL:https://amazinggracelutheran.com/event/worship-3-2/2028-06-04/
LOCATION:Amazing Grace Lutheran Church\, 2240 Carolina Forest Blvd\,\, Myrtle Beach\, SC\, 29579\, United States
CATEGORIES:Weekly
END:VEVENT
END:VCALENDAR