BEGIN:VCALENDAR
VERSION:2.0
PRODID:-// - ECPv6.15.20//NONSGML v1.0//EN
CALSCALE:GREGORIAN
METHOD:PUBLISH
X-ORIGINAL-URL:https://amazinggracelutheran.com
X-WR-CALDESC:Events for 
REFRESH-INTERVAL;VALUE=DURATION:PT1H
X-Robots-Tag:noindex
X-PUBLISHED-TTL:PT1H
BEGIN:VTIMEZONE
TZID:America/New_York
BEGIN:DAYLIGHT
TZOFFSETFROM:-0500
TZOFFSETTO:-0400
TZNAME:EDT
DTSTART:20260308T070000
END:DAYLIGHT
BEGIN:STANDARD
TZOFFSETFROM:-0400
TZOFFSETTO:-0500
TZNAME:EST
DTSTART:20261101T060000
END:STANDARD
BEGIN:DAYLIGHT
TZOFFSETFROM:-0500
TZOFFSETTO:-0400
TZNAME:EDT
DTSTART:20270314T070000
END:DAYLIGHT
BEGIN:STANDARD
TZOFFSETFROM:-0400
TZOFFSETTO:-0500
TZNAME:EST
DTSTART:20271107T060000
END:STANDARD
BEGIN:DAYLIGHT
TZOFFSETFROM:-0500
TZOFFSETTO:-0400
TZNAME:EDT
DTSTART:20280312T070000
END:DAYLIGHT
BEGIN:STANDARD
TZOFFSETFROM:-0400
TZOFFSETTO:-0500
TZNAME:EST
DTSTART:20281105T060000
END:STANDARD
BEGIN:DAYLIGHT
TZOFFSETFROM:-0500
TZOFFSETTO:-0400
TZNAME:EDT
DTSTART:20290311T070000
END:DAYLIGHT
BEGIN:STANDARD
TZOFFSETFROM:-0400
TZOFFSETTO:-0500
TZNAME:EST
DTSTART:20291104T060000
END:STANDARD
END:VTIMEZONE
BEGIN:VEVENT
DTSTART;TZID=America/New_York:20271205T091500
DTEND;TZID=America/New_York:20271205T101500
DTSTAMP:20260423T012347
CREATED:20240229T185809Z
LAST-MODIFIED:20240229T185809Z
UID:10002956-1827998100-1828001700@amazinggracelutheran.com
SUMMARY:Bible Class & Kids GROW
DESCRIPTION:
URL:https://amazinggracelutheran.com/event/bible-class-kids-grow-2-2-2/2027-12-05/
LOCATION:Amazing Grace Lutheran Church\, 2240 Carolina Forest Blvd\,\, Myrtle Beach\, SC\, 29579\, United States
CATEGORIES:Weekly
END:VEVENT
BEGIN:VEVENT
DTSTART;TZID=America/New_York:20271205T103000
DTEND;TZID=America/New_York:20271205T113000
DTSTAMP:20260423T012347
CREATED:20240229T185917Z
LAST-MODIFIED:20240229T185918Z
UID:10003233-1828002600-1828006200@amazinggracelutheran.com
SUMMARY:Worship
DESCRIPTION:
URL:https://amazinggracelutheran.com/event/worship-3-2/2027-12-05/
LOCATION:Amazing Grace Lutheran Church\, 2240 Carolina Forest Blvd\,\, Myrtle Beach\, SC\, 29579\, United States
CATEGORIES:Weekly
END:VEVENT
BEGIN:VEVENT
DTSTART;TZID=America/New_York:20271212T091500
DTEND;TZID=America/New_York:20271212T101500
DTSTAMP:20260423T012347
CREATED:20240229T185809Z
LAST-MODIFIED:20240229T185809Z
UID:10002957-1828602900-1828606500@amazinggracelutheran.com
SUMMARY:Bible Class & Kids GROW
DESCRIPTION:
URL:https://amazinggracelutheran.com/event/bible-class-kids-grow-2-2-2/2027-12-12/
LOCATION:Amazing Grace Lutheran Church\, 2240 Carolina Forest Blvd\,\, Myrtle Beach\, SC\, 29579\, United States
CATEGORIES:Weekly
END:VEVENT
BEGIN:VEVENT
DTSTART;TZID=America/New_York:20271212T103000
DTEND;TZID=America/New_York:20271212T113000
DTSTAMP:20260423T012347
CREATED:20240229T185917Z
LAST-MODIFIED:20240229T185918Z
UID:10003234-1828607400-1828611000@amazinggracelutheran.com
SUMMARY:Worship
DESCRIPTION:
URL:https://amazinggracelutheran.com/event/worship-3-2/2027-12-12/
LOCATION:Amazing Grace Lutheran Church\, 2240 Carolina Forest Blvd\,\, Myrtle Beach\, SC\, 29579\, United States
CATEGORIES:Weekly
END:VEVENT
BEGIN:VEVENT
DTSTART;TZID=America/New_York:20271219T091500
DTEND;TZID=America/New_York:20271219T101500
DTSTAMP:20260423T012347
CREATED:20240229T185809Z
LAST-MODIFIED:20240229T185809Z
UID:10002958-1829207700-1829211300@amazinggracelutheran.com
SUMMARY:Bible Class & Kids GROW
DESCRIPTION:
URL:https://amazinggracelutheran.com/event/bible-class-kids-grow-2-2-2/2027-12-19/
LOCATION:Amazing Grace Lutheran Church\, 2240 Carolina Forest Blvd\,\, Myrtle Beach\, SC\, 29579\, United States
CATEGORIES:Weekly
END:VEVENT
BEGIN:VEVENT
DTSTART;TZID=America/New_York:20271219T103000
DTEND;TZID=America/New_York:20271219T113000
DTSTAMP:20260423T012347
CREATED:20240229T185917Z
LAST-MODIFIED:20240229T185918Z
UID:10003235-1829212200-1829215800@amazinggracelutheran.com
SUMMARY:Worship
DESCRIPTION:
URL:https://amazinggracelutheran.com/event/worship-3-2/2027-12-19/
LOCATION:Amazing Grace Lutheran Church\, 2240 Carolina Forest Blvd\,\, Myrtle Beach\, SC\, 29579\, United States
CATEGORIES:Weekly
END:VEVENT
BEGIN:VEVENT
DTSTART;TZID=America/New_York:20271226T091500
DTEND;TZID=America/New_York:20271226T101500
DTSTAMP:20260423T012347
CREATED:20240229T185809Z
LAST-MODIFIED:20240229T185809Z
UID:10002959-1829812500-1829816100@amazinggracelutheran.com
SUMMARY:Bible Class & Kids GROW
DESCRIPTION:
URL:https://amazinggracelutheran.com/event/bible-class-kids-grow-2-2-2/2027-12-26/
LOCATION:Amazing Grace Lutheran Church\, 2240 Carolina Forest Blvd\,\, Myrtle Beach\, SC\, 29579\, United States
CATEGORIES:Weekly
END:VEVENT
BEGIN:VEVENT
DTSTART;TZID=America/New_York:20271226T103000
DTEND;TZID=America/New_York:20271226T113000
DTSTAMP:20260423T012347
CREATED:20240229T185917Z
LAST-MODIFIED:20240229T185918Z
UID:10003236-1829817000-1829820600@amazinggracelutheran.com
SUMMARY:Worship
DESCRIPTION:
URL:https://amazinggracelutheran.com/event/worship-3-2/2027-12-26/
LOCATION:Amazing Grace Lutheran Church\, 2240 Carolina Forest Blvd\,\, Myrtle Beach\, SC\, 29579\, United States
CATEGORIES:Weekly
END:VEVENT
BEGIN:VEVENT
DTSTART;TZID=America/New_York:20280102T091500
DTEND;TZID=America/New_York:20280102T101500
DTSTAMP:20260423T012347
CREATED:20240229T185809Z
LAST-MODIFIED:20240229T185809Z
UID:10002960-1830417300-1830420900@amazinggracelutheran.com
SUMMARY:Bible Class & Kids GROW
DESCRIPTION:
URL:https://amazinggracelutheran.com/event/bible-class-kids-grow-2-2-2/2028-01-02/
LOCATION:Amazing Grace Lutheran Church\, 2240 Carolina Forest Blvd\,\, Myrtle Beach\, SC\, 29579\, United States
CATEGORIES:Weekly
END:VEVENT
BEGIN:VEVENT
DTSTART;TZID=America/New_York:20280102T103000
DTEND;TZID=America/New_York:20280102T113000
DTSTAMP:20260423T012347
CREATED:20240229T185917Z
LAST-MODIFIED:20240229T185918Z
UID:10003237-1830421800-1830425400@amazinggracelutheran.com
SUMMARY:Worship
DESCRIPTION:
URL:https://amazinggracelutheran.com/event/worship-3-2/2028-01-02/
LOCATION:Amazing Grace Lutheran Church\, 2240 Carolina Forest Blvd\,\, Myrtle Beach\, SC\, 29579\, United States
CATEGORIES:Weekly
END:VEVENT
BEGIN:VEVENT
DTSTART;TZID=America/New_York:20280109T091500
DTEND;TZID=America/New_York:20280109T101500
DTSTAMP:20260423T012347
CREATED:20240229T185809Z
LAST-MODIFIED:20240229T185809Z
UID:10002961-1831022100-1831025700@amazinggracelutheran.com
SUMMARY:Bible Class & Kids GROW
DESCRIPTION:
URL:https://amazinggracelutheran.com/event/bible-class-kids-grow-2-2-2/2028-01-09/
LOCATION:Amazing Grace Lutheran Church\, 2240 Carolina Forest Blvd\,\, Myrtle Beach\, SC\, 29579\, United States
CATEGORIES:Weekly
END:VEVENT
BEGIN:VEVENT
DTSTART;TZID=America/New_York:20280109T103000
DTEND;TZID=America/New_York:20280109T113000
DTSTAMP:20260423T012347
CREATED:20240229T185917Z
LAST-MODIFIED:20240229T185918Z
UID:10003238-1831026600-1831030200@amazinggracelutheran.com
SUMMARY:Worship
DESCRIPTION:
URL:https://amazinggracelutheran.com/event/worship-3-2/2028-01-09/
LOCATION:Amazing Grace Lutheran Church\, 2240 Carolina Forest Blvd\,\, Myrtle Beach\, SC\, 29579\, United States
CATEGORIES:Weekly
END:VEVENT
BEGIN:VEVENT
DTSTART;TZID=America/New_York:20280116T091500
DTEND;TZID=America/New_York:20280116T101500
DTSTAMP:20260423T012347
CREATED:20240229T185809Z
LAST-MODIFIED:20240229T185809Z
UID:10002962-1831626900-1831630500@amazinggracelutheran.com
SUMMARY:Bible Class & Kids GROW
DESCRIPTION:
URL:https://amazinggracelutheran.com/event/bible-class-kids-grow-2-2-2/2028-01-16/
LOCATION:Amazing Grace Lutheran Church\, 2240 Carolina Forest Blvd\,\, Myrtle Beach\, SC\, 29579\, United States
CATEGORIES:Weekly
END:VEVENT
BEGIN:VEVENT
DTSTART;TZID=America/New_York:20280116T103000
DTEND;TZID=America/New_York:20280116T113000
DTSTAMP:20260423T012347
CREATED:20240229T185917Z
LAST-MODIFIED:20240229T185918Z
UID:10003239-1831631400-1831635000@amazinggracelutheran.com
SUMMARY:Worship
DESCRIPTION:
URL:https://amazinggracelutheran.com/event/worship-3-2/2028-01-16/
LOCATION:Amazing Grace Lutheran Church\, 2240 Carolina Forest Blvd\,\, Myrtle Beach\, SC\, 29579\, United States
CATEGORIES:Weekly
END:VEVENT
BEGIN:VEVENT
DTSTART;TZID=America/New_York:20280123T091500
DTEND;TZID=America/New_York:20280123T101500
DTSTAMP:20260423T012347
CREATED:20240229T185809Z
LAST-MODIFIED:20240229T185809Z
UID:10002963-1832231700-1832235300@amazinggracelutheran.com
SUMMARY:Bible Class & Kids GROW
DESCRIPTION:
URL:https://amazinggracelutheran.com/event/bible-class-kids-grow-2-2-2/2028-01-23/
LOCATION:Amazing Grace Lutheran Church\, 2240 Carolina Forest Blvd\,\, Myrtle Beach\, SC\, 29579\, United States
CATEGORIES:Weekly
END:VEVENT
BEGIN:VEVENT
DTSTART;TZID=America/New_York:20280123T103000
DTEND;TZID=America/New_York:20280123T113000
DTSTAMP:20260423T012347
CREATED:20240229T185917Z
LAST-MODIFIED:20240229T185918Z
UID:10003240-1832236200-1832239800@amazinggracelutheran.com
SUMMARY:Worship
DESCRIPTION:
URL:https://amazinggracelutheran.com/event/worship-3-2/2028-01-23/
LOCATION:Amazing Grace Lutheran Church\, 2240 Carolina Forest Blvd\,\, Myrtle Beach\, SC\, 29579\, United States
CATEGORIES:Weekly
END:VEVENT
BEGIN:VEVENT
DTSTART;TZID=America/New_York:20280130T091500
DTEND;TZID=America/New_York:20280130T101500
DTSTAMP:20260423T012347
CREATED:20240229T185809Z
LAST-MODIFIED:20240229T185809Z
UID:10002964-1832836500-1832840100@amazinggracelutheran.com
SUMMARY:Bible Class & Kids GROW
DESCRIPTION:
URL:https://amazinggracelutheran.com/event/bible-class-kids-grow-2-2-2/2028-01-30/
LOCATION:Amazing Grace Lutheran Church\, 2240 Carolina Forest Blvd\,\, Myrtle Beach\, SC\, 29579\, United States
CATEGORIES:Weekly
END:VEVENT
BEGIN:VEVENT
DTSTART;TZID=America/New_York:20280130T103000
DTEND;TZID=America/New_York:20280130T113000
DTSTAMP:20260423T012347
CREATED:20240229T185917Z
LAST-MODIFIED:20240229T185918Z
UID:10003241-1832841000-1832844600@amazinggracelutheran.com
SUMMARY:Worship
DESCRIPTION:
URL:https://amazinggracelutheran.com/event/worship-3-2/2028-01-30/
LOCATION:Amazing Grace Lutheran Church\, 2240 Carolina Forest Blvd\,\, Myrtle Beach\, SC\, 29579\, United States
CATEGORIES:Weekly
END:VEVENT
BEGIN:VEVENT
DTSTART;TZID=America/New_York:20280206T091500
DTEND;TZID=America/New_York:20280206T101500
DTSTAMP:20260423T012347
CREATED:20240229T185809Z
LAST-MODIFIED:20240229T185809Z
UID:10002965-1833441300-1833444900@amazinggracelutheran.com
SUMMARY:Bible Class & Kids GROW
DESCRIPTION:
URL:https://amazinggracelutheran.com/event/bible-class-kids-grow-2-2-2/2028-02-06/
LOCATION:Amazing Grace Lutheran Church\, 2240 Carolina Forest Blvd\,\, Myrtle Beach\, SC\, 29579\, United States
CATEGORIES:Weekly
END:VEVENT
BEGIN:VEVENT
DTSTART;TZID=America/New_York:20280206T103000
DTEND;TZID=America/New_York:20280206T113000
DTSTAMP:20260423T012347
CREATED:20240229T185917Z
LAST-MODIFIED:20240229T185918Z
UID:10003242-1833445800-1833449400@amazinggracelutheran.com
SUMMARY:Worship
DESCRIPTION:
URL:https://amazinggracelutheran.com/event/worship-3-2/2028-02-06/
LOCATION:Amazing Grace Lutheran Church\, 2240 Carolina Forest Blvd\,\, Myrtle Beach\, SC\, 29579\, United States
CATEGORIES:Weekly
END:VEVENT
BEGIN:VEVENT
DTSTART;TZID=America/New_York:20280213T091500
DTEND;TZID=America/New_York:20280213T101500
DTSTAMP:20260423T012347
CREATED:20240229T185809Z
LAST-MODIFIED:20240229T185809Z
UID:10002966-1834046100-1834049700@amazinggracelutheran.com
SUMMARY:Bible Class & Kids GROW
DESCRIPTION:
URL:https://amazinggracelutheran.com/event/bible-class-kids-grow-2-2-2/2028-02-13/
LOCATION:Amazing Grace Lutheran Church\, 2240 Carolina Forest Blvd\,\, Myrtle Beach\, SC\, 29579\, United States
CATEGORIES:Weekly
END:VEVENT
BEGIN:VEVENT
DTSTART;TZID=America/New_York:20280213T103000
DTEND;TZID=America/New_York:20280213T113000
DTSTAMP:20260423T012347
CREATED:20240229T185917Z
LAST-MODIFIED:20240229T185918Z
UID:10003243-1834050600-1834054200@amazinggracelutheran.com
SUMMARY:Worship
DESCRIPTION:
URL:https://amazinggracelutheran.com/event/worship-3-2/2028-02-13/
LOCATION:Amazing Grace Lutheran Church\, 2240 Carolina Forest Blvd\,\, Myrtle Beach\, SC\, 29579\, United States
CATEGORIES:Weekly
END:VEVENT
BEGIN:VEVENT
DTSTART;TZID=America/New_York:20280220T091500
DTEND;TZID=America/New_York:20280220T101500
DTSTAMP:20260423T012347
CREATED:20240229T185809Z
LAST-MODIFIED:20240229T185809Z
UID:10002967-1834650900-1834654500@amazinggracelutheran.com
SUMMARY:Bible Class & Kids GROW
DESCRIPTION:
URL:https://amazinggracelutheran.com/event/bible-class-kids-grow-2-2-2/2028-02-20/
LOCATION:Amazing Grace Lutheran Church\, 2240 Carolina Forest Blvd\,\, Myrtle Beach\, SC\, 29579\, United States
CATEGORIES:Weekly
END:VEVENT
BEGIN:VEVENT
DTSTART;TZID=America/New_York:20280220T103000
DTEND;TZID=America/New_York:20280220T113000
DTSTAMP:20260423T012347
CREATED:20240229T185917Z
LAST-MODIFIED:20240229T185918Z
UID:10003244-1834655400-1834659000@amazinggracelutheran.com
SUMMARY:Worship
DESCRIPTION:
URL:https://amazinggracelutheran.com/event/worship-3-2/2028-02-20/
LOCATION:Amazing Grace Lutheran Church\, 2240 Carolina Forest Blvd\,\, Myrtle Beach\, SC\, 29579\, United States
CATEGORIES:Weekly
END:VEVENT
BEGIN:VEVENT
DTSTART;TZID=America/New_York:20280227T091500
DTEND;TZID=America/New_York:20280227T101500
DTSTAMP:20260423T012347
CREATED:20240229T185809Z
LAST-MODIFIED:20240229T185809Z
UID:10002968-1835255700-1835259300@amazinggracelutheran.com
SUMMARY:Bible Class & Kids GROW
DESCRIPTION:
URL:https://amazinggracelutheran.com/event/bible-class-kids-grow-2-2-2/2028-02-27/
LOCATION:Amazing Grace Lutheran Church\, 2240 Carolina Forest Blvd\,\, Myrtle Beach\, SC\, 29579\, United States
CATEGORIES:Weekly
END:VEVENT
BEGIN:VEVENT
DTSTART;TZID=America/New_York:20280227T103000
DTEND;TZID=America/New_York:20280227T113000
DTSTAMP:20260423T012347
CREATED:20240229T185917Z
LAST-MODIFIED:20240229T185918Z
UID:10003245-1835260200-1835263800@amazinggracelutheran.com
SUMMARY:Worship
DESCRIPTION:
URL:https://amazinggracelutheran.com/event/worship-3-2/2028-02-27/
LOCATION:Amazing Grace Lutheran Church\, 2240 Carolina Forest Blvd\,\, Myrtle Beach\, SC\, 29579\, United States
CATEGORIES:Weekly
END:VEVENT
BEGIN:VEVENT
DTSTART;TZID=America/New_York:20280305T091500
DTEND;TZID=America/New_York:20280305T101500
DTSTAMP:20260423T012347
CREATED:20240229T185809Z
LAST-MODIFIED:20240229T185809Z
UID:10002969-1835860500-1835864100@amazinggracelutheran.com
SUMMARY:Bible Class & Kids GROW
DESCRIPTION:
URL:https://amazinggracelutheran.com/event/bible-class-kids-grow-2-2-2/2028-03-05/
LOCATION:Amazing Grace Lutheran Church\, 2240 Carolina Forest Blvd\,\, Myrtle Beach\, SC\, 29579\, United States
CATEGORIES:Weekly
END:VEVENT
BEGIN:VEVENT
DTSTART;TZID=America/New_York:20280305T103000
DTEND;TZID=America/New_York:20280305T113000
DTSTAMP:20260423T012347
CREATED:20240229T185917Z
LAST-MODIFIED:20240229T185918Z
UID:10003246-1835865000-1835868600@amazinggracelutheran.com
SUMMARY:Worship
DESCRIPTION:
URL:https://amazinggracelutheran.com/event/worship-3-2/2028-03-05/
LOCATION:Amazing Grace Lutheran Church\, 2240 Carolina Forest Blvd\,\, Myrtle Beach\, SC\, 29579\, United States
CATEGORIES:Weekly
END:VEVENT
BEGIN:VEVENT
DTSTART;TZID=America/New_York:20280312T091500
DTEND;TZID=America/New_York:20280312T101500
DTSTAMP:20260423T012347
CREATED:20240229T185809Z
LAST-MODIFIED:20240229T185809Z
UID:10002970-1836465300-1836468900@amazinggracelutheran.com
SUMMARY:Bible Class & Kids GROW
DESCRIPTION:
URL:https://amazinggracelutheran.com/event/bible-class-kids-grow-2-2-2/2028-03-12/
LOCATION:Amazing Grace Lutheran Church\, 2240 Carolina Forest Blvd\,\, Myrtle Beach\, SC\, 29579\, United States
CATEGORIES:Weekly
END:VEVENT
BEGIN:VEVENT
DTSTART;TZID=America/New_York:20280312T103000
DTEND;TZID=America/New_York:20280312T113000
DTSTAMP:20260423T012347
CREATED:20240229T185917Z
LAST-MODIFIED:20240229T185918Z
UID:10003247-1836469800-1836473400@amazinggracelutheran.com
SUMMARY:Worship
DESCRIPTION:
URL:https://amazinggracelutheran.com/event/worship-3-2/2028-03-12/
LOCATION:Amazing Grace Lutheran Church\, 2240 Carolina Forest Blvd\,\, Myrtle Beach\, SC\, 29579\, United States
CATEGORIES:Weekly
END:VEVENT
END:VCALENDAR