BEGIN:VCALENDAR
VERSION:2.0
PRODID:-// - ECPv6.15.20//NONSGML v1.0//EN
CALSCALE:GREGORIAN
METHOD:PUBLISH
X-ORIGINAL-URL:https://amazinggracelutheran.com
X-WR-CALDESC:Events for 
REFRESH-INTERVAL;VALUE=DURATION:PT1H
X-Robots-Tag:noindex
X-PUBLISHED-TTL:PT1H
BEGIN:VTIMEZONE
TZID:America/New_York
BEGIN:DAYLIGHT
TZOFFSETFROM:-0500
TZOFFSETTO:-0400
TZNAME:EDT
DTSTART:20220313T070000
END:DAYLIGHT
BEGIN:STANDARD
TZOFFSETFROM:-0400
TZOFFSETTO:-0500
TZNAME:EST
DTSTART:20221106T060000
END:STANDARD
BEGIN:DAYLIGHT
TZOFFSETFROM:-0500
TZOFFSETTO:-0400
TZNAME:EDT
DTSTART:20230312T070000
END:DAYLIGHT
BEGIN:STANDARD
TZOFFSETFROM:-0400
TZOFFSETTO:-0500
TZNAME:EST
DTSTART:20231105T060000
END:STANDARD
BEGIN:DAYLIGHT
TZOFFSETFROM:-0500
TZOFFSETTO:-0400
TZNAME:EDT
DTSTART:20240310T070000
END:DAYLIGHT
BEGIN:STANDARD
TZOFFSETFROM:-0400
TZOFFSETTO:-0500
TZNAME:EST
DTSTART:20241103T060000
END:STANDARD
BEGIN:DAYLIGHT
TZOFFSETFROM:-0500
TZOFFSETTO:-0400
TZNAME:EDT
DTSTART:20250309T070000
END:DAYLIGHT
BEGIN:STANDARD
TZOFFSETFROM:-0400
TZOFFSETTO:-0500
TZNAME:EST
DTSTART:20251102T060000
END:STANDARD
END:VTIMEZONE
BEGIN:VEVENT
DTSTART;TZID=America/New_York:20240324T180000
DTEND;TZID=America/New_York:20240324T210000
DTSTAMP:20260419T130038
CREATED:20231105T150623Z
LAST-MODIFIED:20240229T175046Z
UID:10004497-1711303200-1711314000@amazinggracelutheran.com
SUMMARY:Youth Group
DESCRIPTION:
URL:https://amazinggracelutheran.com/event/youth-group-2/2024-03-24/
LOCATION:Amazing Grace Lutheran Church\, 2240 Carolina Forest Blvd\,\, Myrtle Beach\, SC\, 29579\, United States
END:VEVENT
BEGIN:VEVENT
DTSTART;TZID=America/New_York:20240318T190000
DTEND;TZID=America/New_York:20240318T203000
DTSTAMP:20260419T130038
CREATED:20231105T144941Z
LAST-MODIFIED:20240229T173401Z
UID:10004437-1710788400-1710793800@amazinggracelutheran.com
SUMMARY:Campus Ministry @ CCU
DESCRIPTION:
URL:https://amazinggracelutheran.com/event/campus-ministry-ccu-2-2-4/2024-03-18/
LOCATION:Coastal Carolina University\, 376 University Blvd Kimberly Library Rm 123\, Conway\, SC\, 29528\, United States
CATEGORIES:Connect Group
END:VEVENT
BEGIN:VEVENT
DTSTART;TZID=America/New_York:20240310T180000
DTEND;TZID=America/New_York:20240310T210000
DTSTAMP:20260419T130038
CREATED:20231105T150623Z
LAST-MODIFIED:20240229T175046Z
UID:10004496-1710093600-1710104400@amazinggracelutheran.com
SUMMARY:Youth Group
DESCRIPTION:
URL:https://amazinggracelutheran.com/event/youth-group-2/2024-03-10/
LOCATION:Amazing Grace Lutheran Church\, 2240 Carolina Forest Blvd\,\, Myrtle Beach\, SC\, 29579\, United States
END:VEVENT
BEGIN:VEVENT
DTSTART;TZID=America/New_York:20240304T190000
DTEND;TZID=America/New_York:20240304T203000
DTSTAMP:20260419T130038
CREATED:20231105T144941Z
LAST-MODIFIED:20240229T173401Z
UID:10004436-1709578800-1709584200@amazinggracelutheran.com
SUMMARY:Campus Ministry @ CCU
DESCRIPTION:
URL:https://amazinggracelutheran.com/event/campus-ministry-ccu-2-2-4/2024-03-04/
LOCATION:Coastal Carolina University\, 376 University Blvd Kimberly Library Rm 123\, Conway\, SC\, 29528\, United States
CATEGORIES:Connect Group
END:VEVENT
BEGIN:VEVENT
DTSTART;TZID=America/New_York:20231128T190000
DTEND;TZID=America/New_York:20231128T203000
DTSTAMP:20260419T130038
CREATED:20230730T140509Z
LAST-MODIFIED:20231105T145159Z
UID:10003809-1701198000-1701203400@amazinggracelutheran.com
SUMMARY:Campus Ministry @ CCU
DESCRIPTION:
URL:https://amazinggracelutheran.com/event/campus-ministry-ccu-2-2/2023-11-28/
LOCATION:Coastal Carolina University\, 376 University Blvd Kimberly Library Rm 123\, Conway\, SC\, 29528\, United States
CATEGORIES:Connect Group
END:VEVENT
BEGIN:VEVENT
DTSTART;TZID=America/New_York:20231107T190000
DTEND;TZID=America/New_York:20231107T203000
DTSTAMP:20260419T130038
CREATED:20230730T140509Z
LAST-MODIFIED:20231105T145159Z
UID:10003808-1699383600-1699389000@amazinggracelutheran.com
SUMMARY:Campus Ministry @ CCU
DESCRIPTION:
URL:https://amazinggracelutheran.com/event/campus-ministry-ccu-2-2/2023-11-07/
LOCATION:Coastal Carolina University\, 376 University Blvd Kimberly Library Rm 123\, Conway\, SC\, 29528\, United States
CATEGORIES:Connect Group
END:VEVENT
BEGIN:VEVENT
DTSTART;TZID=America/New_York:20231008T180000
DTEND;TZID=America/New_York:20231008T210000
DTSTAMP:20260419T130038
CREATED:20231004T150240Z
LAST-MODIFIED:20231004T150303Z
UID:10003277-1696788000-1696798800@amazinggracelutheran.com
SUMMARY:Youth Group
DESCRIPTION:
URL:https://amazinggracelutheran.com/event/youth-group/
LOCATION:Amazing Grace Lutheran Church\, 2240 Carolina Forest Blvd\,\, Myrtle Beach\, SC\, 29579\, United States
END:VEVENT
BEGIN:VEVENT
DTSTART;TZID=America/New_York:20230926T190000
DTEND;TZID=America/New_York:20230926T203000
DTSTAMP:20260419T130038
CREATED:20230924T141239Z
LAST-MODIFIED:20230924T141240Z
UID:10003000-1695754800-1695760200@amazinggracelutheran.com
SUMMARY:Campus Ministry @ CCU
DESCRIPTION:
URL:https://amazinggracelutheran.com/event/campus-ministry-ccu-2-2-3/
LOCATION:Coastal Carolina University\, 376 University Blvd Kimberly Library Rm 123\, Conway\, SC\, 29528\, United States
CATEGORIES:Connect Group
END:VEVENT
BEGIN:VEVENT
DTSTART;TZID=America/New_York:20230829T180000
DTEND;TZID=America/New_York:20230829T193000
DTSTAMP:20260419T130038
CREATED:20230730T140630Z
LAST-MODIFIED:20230730T140630Z
UID:10001295-1693332000-1693337400@amazinggracelutheran.com
SUMMARY:Campus Ministry @ CCU
DESCRIPTION:
URL:https://amazinggracelutheran.com/event/campus-ministry-ccu-2-2-2/
LOCATION:Coastal Carolina University\, 376 University Blvd Kimberly Library Rm 123\, Conway\, SC\, 29528\, United States
CATEGORIES:Connect Group
END:VEVENT
BEGIN:VEVENT
DTSTART;TZID=America/New_York:20230724T083000
DTEND;TZID=America/New_York:20230728T170000
DTSTAMP:20260419T130038
CREATED:20230714T145843Z
LAST-MODIFIED:20230714T145843Z
UID:10002716-1690187400-1690563600@amazinggracelutheran.com
SUMMARY:Camp South Youth Event
DESCRIPTION:
URL:https://amazinggracelutheran.com/event/camp-south-youth-event/
END:VEVENT
BEGIN:VEVENT
DTSTART;TZID=America/New_York:20230710T090000
DTEND;TZID=America/New_York:20230714T113000
DTSTAMP:20260419T130038
CREATED:20230605T023516Z
LAST-MODIFIED:20230605T023651Z
UID:10001625-1688979600-1689334200@amazinggracelutheran.com
SUMMARY:Vacation Bible School
DESCRIPTION:
URL:https://amazinggracelutheran.com/event/vacation-bible-school/
LOCATION:Amazing Grace Lutheran Church\, 2240 Carolina Forest Blvd\,\, Myrtle Beach\, SC\, 29579\, United States
END:VEVENT
BEGIN:VEVENT
DTSTART;TZID=America/New_York:20230607T180000
DTEND;TZID=America/New_York:20230607T200000
DTSTAMP:20260419T130038
CREATED:20230127T160642Z
LAST-MODIFIED:20230605T015445Z
UID:10001356-1686160800-1686168000@amazinggracelutheran.com
SUMMARY:Teen Group Movie Night
DESCRIPTION:
URL:https://amazinggracelutheran.com/event/teen-group-movie-night/
LOCATION:Amazing Grace Lutheran Church\, 2240 Carolina Forest Blvd\,\, Myrtle Beach\, SC\, 29579\, United States
CATEGORIES:Teen Group
END:VEVENT
BEGIN:VEVENT
DTSTART;TZID=America/New_York:20230502T190000
DTEND;TZID=America/New_York:20230502T203000
DTSTAMP:20260419T130038
CREATED:20230127T135924Z
LAST-MODIFIED:20230127T162038Z
UID:10001292-1683054000-1683059400@amazinggracelutheran.com
SUMMARY:Campus Ministry @ CCU
DESCRIPTION:
URL:https://amazinggracelutheran.com/event/campus-ministry-ccu/2023-05-02/
LOCATION:Coastal Carolina University\, 376 University Blvd Kimberly Library Rm 123\, Conway\, SC\, 29528\, United States
CATEGORIES:Connect Group
END:VEVENT
BEGIN:VEVENT
DTSTART;TZID=America/New_York:20230404T190000
DTEND;TZID=America/New_York:20230404T203000
DTSTAMP:20260419T130038
CREATED:20230127T135924Z
LAST-MODIFIED:20230127T162038Z
UID:10001291-1680634800-1680640200@amazinggracelutheran.com
SUMMARY:Campus Ministry @ CCU
DESCRIPTION:
URL:https://amazinggracelutheran.com/event/campus-ministry-ccu/2023-04-04/
LOCATION:Coastal Carolina University\, 376 University Blvd Kimberly Library Rm 123\, Conway\, SC\, 29528\, United States
CATEGORIES:Connect Group
END:VEVENT
BEGIN:VEVENT
DTSTART;TZID=America/New_York:20230321T190000
DTEND;TZID=America/New_York:20230321T203000
DTSTAMP:20260419T130038
CREATED:20230127T135924Z
LAST-MODIFIED:20230127T162038Z
UID:10001290-1679425200-1679430600@amazinggracelutheran.com
SUMMARY:Campus Ministry @ CCU
DESCRIPTION:
URL:https://amazinggracelutheran.com/event/campus-ministry-ccu/2023-03-21/
LOCATION:Coastal Carolina University\, 376 University Blvd Kimberly Library Rm 123\, Conway\, SC\, 29528\, United States
CATEGORIES:Connect Group
END:VEVENT
BEGIN:VEVENT
DTSTART;TZID=America/New_York:20230307T190000
DTEND;TZID=America/New_York:20230307T203000
DTSTAMP:20260419T130038
CREATED:20230127T135924Z
LAST-MODIFIED:20230127T162038Z
UID:10001289-1678215600-1678221000@amazinggracelutheran.com
SUMMARY:Campus Ministry @ CCU
DESCRIPTION:
URL:https://amazinggracelutheran.com/event/campus-ministry-ccu/2023-03-07/
LOCATION:Coastal Carolina University\, 376 University Blvd Kimberly Library Rm 123\, Conway\, SC\, 29528\, United States
CATEGORIES:Connect Group
END:VEVENT
BEGIN:VEVENT
DTSTART;TZID=America/New_York:20230221T190000
DTEND;TZID=America/New_York:20230221T203000
DTSTAMP:20260419T130038
CREATED:20230127T135924Z
LAST-MODIFIED:20230127T162038Z
UID:10001288-1677006000-1677011400@amazinggracelutheran.com
SUMMARY:Campus Ministry @ CCU
DESCRIPTION:
URL:https://amazinggracelutheran.com/event/campus-ministry-ccu/2023-02-21/
LOCATION:Coastal Carolina University\, 376 University Blvd Kimberly Library Rm 123\, Conway\, SC\, 29528\, United States
CATEGORIES:Connect Group
END:VEVENT
BEGIN:VEVENT
DTSTART;TZID=America/New_York:20230207T190000
DTEND;TZID=America/New_York:20230207T203000
DTSTAMP:20260419T130038
CREATED:20230127T135924Z
LAST-MODIFIED:20230127T162038Z
UID:10001287-1675796400-1675801800@amazinggracelutheran.com
SUMMARY:Campus Ministry @ CCU
DESCRIPTION:
URL:https://amazinggracelutheran.com/event/campus-ministry-ccu/2023-02-07/
LOCATION:Coastal Carolina University\, 376 University Blvd Kimberly Library Rm 123\, Conway\, SC\, 29528\, United States
CATEGORIES:Connect Group
END:VEVENT
END:VCALENDAR