BEGIN:VCALENDAR
VERSION:2.0
PRODID:-// - ECPv6.15.20//NONSGML v1.0//EN
CALSCALE:GREGORIAN
METHOD:PUBLISH
X-ORIGINAL-URL:https://amazinggracelutheran.com
X-WR-CALDESC:Events for 
REFRESH-INTERVAL;VALUE=DURATION:PT1H
X-Robots-Tag:noindex
X-PUBLISHED-TTL:PT1H
BEGIN:VTIMEZONE
TZID:America/New_York
BEGIN:DAYLIGHT
TZOFFSETFROM:-0500
TZOFFSETTO:-0400
TZNAME:EDT
DTSTART:20220313T070000
END:DAYLIGHT
BEGIN:STANDARD
TZOFFSETFROM:-0400
TZOFFSETTO:-0500
TZNAME:EST
DTSTART:20221106T060000
END:STANDARD
BEGIN:DAYLIGHT
TZOFFSETFROM:-0500
TZOFFSETTO:-0400
TZNAME:EDT
DTSTART:20230312T070000
END:DAYLIGHT
BEGIN:STANDARD
TZOFFSETFROM:-0400
TZOFFSETTO:-0500
TZNAME:EST
DTSTART:20231105T060000
END:STANDARD
BEGIN:DAYLIGHT
TZOFFSETFROM:-0500
TZOFFSETTO:-0400
TZNAME:EDT
DTSTART:20240310T070000
END:DAYLIGHT
BEGIN:STANDARD
TZOFFSETFROM:-0400
TZOFFSETTO:-0500
TZNAME:EST
DTSTART:20241103T060000
END:STANDARD
BEGIN:DAYLIGHT
TZOFFSETFROM:-0500
TZOFFSETTO:-0400
TZNAME:EDT
DTSTART:20250309T070000
END:DAYLIGHT
BEGIN:STANDARD
TZOFFSETFROM:-0400
TZOFFSETTO:-0500
TZNAME:EST
DTSTART:20251102T060000
END:STANDARD
END:VTIMEZONE
BEGIN:VEVENT
DTSTART;TZID=America/New_York:20240528T090000
DTEND;TZID=America/New_York:20240528T103000
DTSTAMP:20260419T225749
CREATED:20240506T163821Z
LAST-MODIFIED:20240519T140221Z
UID:10004847-1716886800-1716892200@amazinggracelutheran.com
SUMMARY:C3 with PZ
DESCRIPTION:
URL:https://amazinggracelutheran.com/event/c3-with-pz-3/
LOCATION:Amazing Grace Lutheran Church\, 2240 Carolina Forest Blvd\,\, Myrtle Beach\, SC\, 29579\, United States
CATEGORIES:Connect Group
ORGANIZER;CN="Pastor Ben Zahn":MAILTO:zahn.email@gmail.com
END:VEVENT
BEGIN:VEVENT
DTSTART;TZID=America/New_York:20240331T104500
DTEND;TZID=America/New_York:20240331T120000
DTSTAMP:20260419T225749
CREATED:20240229T190641Z
LAST-MODIFIED:20240229T190641Z
UID:10004547-1711881900-1711886400@amazinggracelutheran.com
SUMMARY:Easter Egg Hunt
DESCRIPTION:
URL:https://amazinggracelutheran.com/event/easter-egg-hunt/
LOCATION:Amazing Grace Lutheran Church\, 2240 Carolina Forest Blvd\,\, Myrtle Beach\, SC\, 29579\, United States
CATEGORIES:Easter,Lent
ORGANIZER;CN="Pastor Ben Zahn":MAILTO:zahn.email@gmail.com
END:VEVENT
BEGIN:VEVENT
DTSTART;TZID=America/New_York:20240331T084500
DTEND;TZID=America/New_York:20240331T100000
DTSTAMP:20260419T225749
CREATED:20240229T190420Z
LAST-MODIFIED:20240229T190420Z
UID:10004546-1711874700-1711879200@amazinggracelutheran.com
SUMMARY:Easter Breakfast
DESCRIPTION:
URL:https://amazinggracelutheran.com/event/easter-breakfast/
LOCATION:Amazing Grace Lutheran Church\, 2240 Carolina Forest Blvd\,\, Myrtle Beach\, SC\, 29579\, United States
CATEGORIES:Easter,Lent
ORGANIZER;CN="Pastor Ben Zahn":MAILTO:zahn.email@gmail.com
END:VEVENT
BEGIN:VEVENT
DTSTART;TZID=America/New_York:20231117T093000
DTEND;TZID=America/New_York:20231117T103000
DTSTAMP:20260419T225749
CREATED:20231004T150826Z
LAST-MODIFIED:20231105T150127Z
UID:10002705-1700213400-1700217000@amazinggracelutheran.com
SUMMARY:Dear Survivor
DESCRIPTION:
URL:https://amazinggracelutheran.com/event/dear-survivor-2-2/
LOCATION:Amazing Grace Lutheran Church\, 2240 Carolina Forest Blvd\,\, Myrtle Beach\, SC\, 29579\, United States
CATEGORIES:Connect Group
ORGANIZER;CN="Pastor Ben Zahn":MAILTO:zahn.email@gmail.com
END:VEVENT
BEGIN:VEVENT
DTSTART;TZID=America/New_York:20230915T093000
DTEND;TZID=America/New_York:20230915T103000
DTSTAMP:20260419T225749
CREATED:20230708T154626Z
LAST-MODIFIED:20230708T154627Z
UID:10002701-1694770200-1694773800@amazinggracelutheran.com
SUMMARY:Dear Survivor
DESCRIPTION:
URL:https://amazinggracelutheran.com/event/dear-survivor-2/2023-09-15/
LOCATION:Amazing Grace Lutheran Church\, 2240 Carolina Forest Blvd\,\, Myrtle Beach\, SC\, 29579\, United States
CATEGORIES:Connect Group
ORGANIZER;CN="Pastor Ben Zahn":MAILTO:zahn.email@gmail.com
END:VEVENT
BEGIN:VEVENT
DTSTART;TZID=America/New_York:20230818T093000
DTEND;TZID=America/New_York:20230818T103000
DTSTAMP:20260419T225749
CREATED:20230708T154626Z
LAST-MODIFIED:20230708T154627Z
UID:10002700-1692351000-1692354600@amazinggracelutheran.com
SUMMARY:Dear Survivor
DESCRIPTION:
URL:https://amazinggracelutheran.com/event/dear-survivor-2/2023-08-18/
LOCATION:Amazing Grace Lutheran Church\, 2240 Carolina Forest Blvd\,\, Myrtle Beach\, SC\, 29579\, United States
CATEGORIES:Connect Group
ORGANIZER;CN="Pastor Ben Zahn":MAILTO:zahn.email@gmail.com
END:VEVENT
BEGIN:VEVENT
DTSTART;TZID=America/New_York:20230815T090000
DTEND;TZID=America/New_York:20230815T100000
DTSTAMP:20260419T225749
CREATED:20230127T154758Z
LAST-MODIFIED:20230730T140337Z
UID:10002720-1692090000-1692093600@amazinggracelutheran.com
SUMMARY:C3 with PZ
DESCRIPTION:
URL:https://amazinggracelutheran.com/event/c3-with-pz/2023-08-15/
LOCATION:Amazing Grace Lutheran Church\, 2240 Carolina Forest Blvd\,\, Myrtle Beach\, SC\, 29579\, United States
CATEGORIES:Connect Group
ORGANIZER;CN="Pastor Ben Zahn":MAILTO:zahn.email@gmail.com
END:VEVENT
BEGIN:VEVENT
DTSTART;TZID=America/New_York:20230721T093000
DTEND;TZID=America/New_York:20230721T103000
DTSTAMP:20260419T225749
CREATED:20230708T154626Z
LAST-MODIFIED:20230708T154627Z
UID:10001349-1689931800-1689935400@amazinggracelutheran.com
SUMMARY:Dear Survivor
DESCRIPTION:
URL:https://amazinggracelutheran.com/event/dear-survivor-2/2023-07-21/
LOCATION:Amazing Grace Lutheran Church\, 2240 Carolina Forest Blvd\,\, Myrtle Beach\, SC\, 29579\, United States
CATEGORIES:Connect Group
ORGANIZER;CN="Pastor Ben Zahn":MAILTO:zahn.email@gmail.com
END:VEVENT
BEGIN:VEVENT
DTSTART;TZID=America/New_York:20230718T090000
DTEND;TZID=America/New_York:20230718T100000
DTSTAMP:20260419T225749
CREATED:20230127T154758Z
LAST-MODIFIED:20230730T140337Z
UID:10002698-1689670800-1689674400@amazinggracelutheran.com
SUMMARY:C3 with PZ
DESCRIPTION:
URL:https://amazinggracelutheran.com/event/c3-with-pz/2023-07-18/
LOCATION:Amazing Grace Lutheran Church\, 2240 Carolina Forest Blvd\,\, Myrtle Beach\, SC\, 29579\, United States
CATEGORIES:Connect Group
ORGANIZER;CN="Pastor Ben Zahn":MAILTO:zahn.email@gmail.com
END:VEVENT
BEGIN:VEVENT
DTSTART;TZID=America/New_York:20230623T093000
DTEND;TZID=America/New_York:20230623T103000
DTSTAMP:20260419T225749
CREATED:20230127T160210Z
LAST-MODIFIED:20230127T160210Z
UID:10001348-1687512600-1687516200@amazinggracelutheran.com
SUMMARY:Dear Survivor
DESCRIPTION:
URL:https://amazinggracelutheran.com/event/dear-survivor/2023-06-23/
LOCATION:Amazing Grace Lutheran Church\, 2240 Carolina Forest Blvd\,\, Myrtle Beach\, SC\, 29579\, United States
CATEGORIES:Connect Group
ORGANIZER;CN="Pastor Ben Zahn":MAILTO:zahn.email@gmail.com
END:VEVENT
BEGIN:VEVENT
DTSTART;TZID=America/New_York:20230620T090000
DTEND;TZID=America/New_York:20230620T100000
DTSTAMP:20260419T225749
CREATED:20230127T154758Z
LAST-MODIFIED:20230730T140337Z
UID:10001362-1687251600-1687255200@amazinggracelutheran.com
SUMMARY:C3 with PZ
DESCRIPTION:
URL:https://amazinggracelutheran.com/event/c3-with-pz/2023-06-20/
LOCATION:Amazing Grace Lutheran Church\, 2240 Carolina Forest Blvd\,\, Myrtle Beach\, SC\, 29579\, United States
CATEGORIES:Connect Group
ORGANIZER;CN="Pastor Ben Zahn":MAILTO:zahn.email@gmail.com
END:VEVENT
BEGIN:VEVENT
DTSTART;TZID=America/New_York:20230606T090000
DTEND;TZID=America/New_York:20230606T100000
DTSTAMP:20260419T225749
CREATED:20230127T154758Z
LAST-MODIFIED:20230730T140337Z
UID:10001361-1686042000-1686045600@amazinggracelutheran.com
SUMMARY:C3 with PZ
DESCRIPTION:
URL:https://amazinggracelutheran.com/event/c3-with-pz/2023-06-06/
LOCATION:Amazing Grace Lutheran Church\, 2240 Carolina Forest Blvd\,\, Myrtle Beach\, SC\, 29579\, United States
CATEGORIES:Connect Group
ORGANIZER;CN="Pastor Ben Zahn":MAILTO:zahn.email@gmail.com
END:VEVENT
BEGIN:VEVENT
DTSTART;TZID=America/New_York:20230526T093000
DTEND;TZID=America/New_York:20230526T103000
DTSTAMP:20260419T225749
CREATED:20230127T160210Z
LAST-MODIFIED:20230127T160210Z
UID:10001347-1685093400-1685097000@amazinggracelutheran.com
SUMMARY:Dear Survivor
DESCRIPTION:
URL:https://amazinggracelutheran.com/event/dear-survivor/2023-05-26/
LOCATION:Amazing Grace Lutheran Church\, 2240 Carolina Forest Blvd\,\, Myrtle Beach\, SC\, 29579\, United States
CATEGORIES:Connect Group
ORGANIZER;CN="Pastor Ben Zahn":MAILTO:zahn.email@gmail.com
END:VEVENT
BEGIN:VEVENT
DTSTART;TZID=America/New_York:20230523T090000
DTEND;TZID=America/New_York:20230523T100000
DTSTAMP:20260419T225749
CREATED:20230127T154758Z
LAST-MODIFIED:20230730T140337Z
UID:10001326-1684832400-1684836000@amazinggracelutheran.com
SUMMARY:C3 with PZ
DESCRIPTION:
URL:https://amazinggracelutheran.com/event/c3-with-pz/2023-05-23/
LOCATION:Amazing Grace Lutheran Church\, 2240 Carolina Forest Blvd\,\, Myrtle Beach\, SC\, 29579\, United States
CATEGORIES:Connect Group
ORGANIZER;CN="Pastor Ben Zahn":MAILTO:zahn.email@gmail.com
END:VEVENT
BEGIN:VEVENT
DTSTART;TZID=America/New_York:20230428T093000
DTEND;TZID=America/New_York:20230428T103000
DTSTAMP:20260419T225749
CREATED:20230127T160210Z
LAST-MODIFIED:20230127T160210Z
UID:10001346-1682674200-1682677800@amazinggracelutheran.com
SUMMARY:Dear Survivor
DESCRIPTION:
URL:https://amazinggracelutheran.com/event/dear-survivor/2023-04-28/
LOCATION:Amazing Grace Lutheran Church\, 2240 Carolina Forest Blvd\,\, Myrtle Beach\, SC\, 29579\, United States
CATEGORIES:Connect Group
ORGANIZER;CN="Pastor Ben Zahn":MAILTO:zahn.email@gmail.com
END:VEVENT
BEGIN:VEVENT
DTSTART;TZID=America/New_York:20230425T090000
DTEND;TZID=America/New_York:20230425T100000
DTSTAMP:20260419T225749
CREATED:20230127T154758Z
LAST-MODIFIED:20230730T140337Z
UID:10001324-1682413200-1682416800@amazinggracelutheran.com
SUMMARY:C3 with PZ
DESCRIPTION:
URL:https://amazinggracelutheran.com/event/c3-with-pz/2023-04-25/
LOCATION:Amazing Grace Lutheran Church\, 2240 Carolina Forest Blvd\,\, Myrtle Beach\, SC\, 29579\, United States
CATEGORIES:Connect Group
ORGANIZER;CN="Pastor Ben Zahn":MAILTO:zahn.email@gmail.com
END:VEVENT
BEGIN:VEVENT
DTSTART;TZID=America/New_York:20230324T093000
DTEND;TZID=America/New_York:20230324T103000
DTSTAMP:20260419T225749
CREATED:20230127T160210Z
LAST-MODIFIED:20230127T160210Z
UID:10001345-1679650200-1679653800@amazinggracelutheran.com
SUMMARY:Dear Survivor
DESCRIPTION:
URL:https://amazinggracelutheran.com/event/dear-survivor/2023-03-24/
LOCATION:Amazing Grace Lutheran Church\, 2240 Carolina Forest Blvd\,\, Myrtle Beach\, SC\, 29579\, United States
CATEGORIES:Connect Group
ORGANIZER;CN="Pastor Ben Zahn":MAILTO:zahn.email@gmail.com
END:VEVENT
BEGIN:VEVENT
DTSTART;TZID=America/New_York:20230226T111500
DTEND;TZID=America/New_York:20230226T123000
DTSTAMP:20260419T225749
CREATED:20230127T160822Z
LAST-MODIFIED:20230127T160822Z
UID:10001357-1677410100-1677414600@amazinggracelutheran.com
SUMMARY:VBS Teacher Meeting
DESCRIPTION:
URL:https://amazinggracelutheran.com/event/vbs-teacher-meeting/
LOCATION:Amazing Grace Lutheran Church\, 2240 Carolina Forest Blvd\,\, Myrtle Beach\, SC\, 29579\, United States
CATEGORIES:Meeting
ORGANIZER;CN="Pastor Ben Zahn":MAILTO:zahn.email@gmail.com
END:VEVENT
BEGIN:VEVENT
DTSTART;TZID=America/New_York:20230224T093000
DTEND;TZID=America/New_York:20230224T103000
DTSTAMP:20260419T225749
CREATED:20230127T160210Z
LAST-MODIFIED:20230127T160210Z
UID:10001344-1677231000-1677234600@amazinggracelutheran.com
SUMMARY:Dear Survivor
DESCRIPTION:
URL:https://amazinggracelutheran.com/event/dear-survivor/2023-02-24/
LOCATION:Amazing Grace Lutheran Church\, 2240 Carolina Forest Blvd\,\, Myrtle Beach\, SC\, 29579\, United States
CATEGORIES:Connect Group
ORGANIZER;CN="Pastor Ben Zahn":MAILTO:zahn.email@gmail.com
END:VEVENT
END:VCALENDAR